BEGIN:VCALENDAR
VERSION:2.0
PRODID:-//Astrobservers - ECPv6.15.13.1//NONSGML v1.0//EN
CALSCALE:GREGORIAN
METHOD:PUBLISH
X-WR-CALNAME:Astrobservers
X-ORIGINAL-URL:https://astrobservers.com
X-WR-CALDESC:Events for Astrobservers
REFRESH-INTERVAL;VALUE=DURATION:PT1H
X-Robots-Tag:noindex
X-PUBLISHED-TTL:PT1H
BEGIN:VTIMEZONE
TZID:America/New_York
BEGIN:DAYLIGHT
TZOFFSETFROM:-0500
TZOFFSETTO:-0400
TZNAME:EDT
DTSTART:20220313T070000
END:DAYLIGHT
BEGIN:STANDARD
TZOFFSETFROM:-0400
TZOFFSETTO:-0500
TZNAME:EST
DTSTART:20221106T060000
END:STANDARD
BEGIN:DAYLIGHT
TZOFFSETFROM:-0500
TZOFFSETTO:-0400
TZNAME:EDT
DTSTART:20230312T070000
END:DAYLIGHT
BEGIN:STANDARD
TZOFFSETFROM:-0400
TZOFFSETTO:-0500
TZNAME:EST
DTSTART:20231105T060000
END:STANDARD
BEGIN:DAYLIGHT
TZOFFSETFROM:-0500
TZOFFSETTO:-0400
TZNAME:EDT
DTSTART:20240310T070000
END:DAYLIGHT
BEGIN:STANDARD
TZOFFSETFROM:-0400
TZOFFSETTO:-0500
TZNAME:EST
DTSTART:20241103T060000
END:STANDARD
BEGIN:DAYLIGHT
TZOFFSETFROM:-0500
TZOFFSETTO:-0400
TZNAME:EDT
DTSTART:20250309T070000
END:DAYLIGHT
BEGIN:STANDARD
TZOFFSETFROM:-0400
TZOFFSETTO:-0500
TZNAME:EST
DTSTART:20251102T060000
END:STANDARD
END:VTIMEZONE
BEGIN:VEVENT
DTSTART;VALUE=DATE:20241010
DTEND;VALUE=DATE:20241011
DTSTAMP:20260423T113510
CREATED:20241104T203032Z
LAST-MODIFIED:20241104T203032Z
UID:8454-1728518400-1728604799@astrobservers.com
SUMMARY:Aurora
DESCRIPTION:
URL:https://astrobservers.com/event/aurora/
END:VEVENT
BEGIN:VEVENT
DTSTART;VALUE=DATE:20241003
DTEND;VALUE=DATE:20241004
DTSTAMP:20260423T113510
CREATED:20241104T202902Z
LAST-MODIFIED:20241104T202902Z
UID:8448-1727913600-1727999999@astrobservers.com
SUMMARY:The biggest flare in seven years
DESCRIPTION:
URL:https://astrobservers.com/event/the-biggest-flare-in-seven-years/
END:VEVENT
BEGIN:VEVENT
DTSTART;VALUE=DATE:20241002
DTEND;VALUE=DATE:20241003
DTSTAMP:20260423T113510
CREATED:20241104T202531Z
LAST-MODIFIED:20241104T202531Z
UID:8445-1727827200-1727913599@astrobservers.com
SUMMARY:C/2023 A3 comet (Once in 60\,000 years)
DESCRIPTION:
URL:https://astrobservers.com/event/c-2023-a3-comet-once-in-60000-years/
END:VEVENT
BEGIN:VEVENT
DTSTART;VALUE=DATE:20240916
DTEND;VALUE=DATE:20240918
DTSTAMP:20260423T113510
CREATED:20241104T202017Z
LAST-MODIFIED:20241104T202032Z
UID:8442-1726488000-1726574399@astrobservers.com
SUMMARY:Moon Festival with Shenzhen Xichong: China's First International Dark Sky Community
DESCRIPTION:https://darksky.org/places/xichong-shenzhen-dark-sky-community/ \nhttps://www.sztv.com.cn/ysz/dsdb/dspd/gqxwlb/80262141.shtml
URL:https://astrobservers.com/event/moon-festival-with-shenzhen-xichong-chinas-first-international-dark-sky-community/
END:VEVENT
BEGIN:VEVENT
DTSTART;VALUE=DATE:20240813
DTEND;VALUE=DATE:20240814
DTSTAMP:20260423T113510
CREATED:20241104T195204Z
LAST-MODIFIED:20241104T195518Z
UID:8437-1723507200-1723593599@astrobservers.com
SUMMARY:Peak of the Perseid meteor shower
DESCRIPTION:The Perseid meteor shower peaks on August 12-13\, with about 100 meteors per hour visible under ideal conditions. The Northern Hemisphere is the best place to observe\, with spectacular views of bright\, fast-moving meteors.
URL:https://astrobservers.com/event/peak-of-the-perseid-meteor-shower/
END:VEVENT
BEGIN:VEVENT
DTSTART;TZID=America/New_York:20240714T000000
DTEND;TZID=America/New_York:20240724T000000
DTSTAMP:20260423T113510
CREATED:20241104T201427Z
LAST-MODIFIED:20241104T201427Z
UID:8439-1720915200-1721779200@astrobservers.com
SUMMARY:Internship in Shenzhen Observatory
DESCRIPTION:Solar Observation\nData Processing and Analysis\nScientific presentations\nScience Outreach Support
URL:https://astrobservers.com/event/internship-in-shenzhen-observatory/
END:VEVENT
BEGIN:VEVENT
DTSTART;TZID=America/New_York:20240510T220000
DTEND;TZID=America/New_York:20240513T120000
DTSTAMP:20260423T113510
CREATED:20240513T032123Z
LAST-MODIFIED:20240513T032123Z
UID:7727-1715378400-1715601600@astrobservers.com
SUMMARY:Northern Lights & Aurora Borealis
DESCRIPTION:https://abc3340.com/resources/media2/16×9/full/1015/center/80/fd1589c3-73b7-46d7-8ba3-e2c3599510d6-large16x9_NorthAmerica_8.png
URL:https://astrobservers.com/event/northern-lights-aurora-borealis/
END:VEVENT
BEGIN:VEVENT
DTSTART;TZID=America/New_York:20240421T090000
DTEND;TZID=America/New_York:20240421T100000
DTSTAMP:20260423T113510
CREATED:20240424T012825Z
LAST-MODIFIED:20240424T013638Z
UID:7716-1713690000-1713693600@astrobservers.com
SUMMARY:Online Lecture: Constraining dark matter contents in galaxies
DESCRIPTION:Ms. Paula Gherghinescu is going to talk about her current research so it is cutting-edge! \n  \n 
URL:https://astrobservers.com/event/online-lecture-constraining-dark-matter-contents-in-galaxies/
END:VEVENT
BEGIN:VEVENT
DTSTART;VALUE=DATE:20240408
DTEND;VALUE=DATE:20240409
DTSTAMP:20260423T113510
CREATED:20240307T072336Z
LAST-MODIFIED:20240307T072336Z
UID:7668-1712534400-1712620799@astrobservers.com
SUMMARY:Solar eclipse on April 8
DESCRIPTION:A total solar eclipse will take place at the Moon’s ascending node on Monday\, April 8\, 2024\, visible across North America and dubbed the Great North American Eclipse by some of the media
URL:https://astrobservers.com/event/solar-eclipse-on-april-8/
LOCATION:10 main st. cheshire\, 10 Main St\, Cheshire\, CT\, 06410\, United States
END:VEVENT
BEGIN:VEVENT
DTSTART;VALUE=DATE:20231214
DTEND;VALUE=DATE:20231216
DTSTAMP:20260423T113510
CREATED:20231219T000712Z
LAST-MODIFIED:20231219T000712Z
UID:7355-1702512000-1702684799@astrobservers.com
SUMMARY:Geminid Meteor Show
DESCRIPTION:
URL:https://astrobservers.com/event/geminid-meteor-show/
END:VEVENT
BEGIN:VEVENT
DTSTART;VALUE=DATE:20231119
DTEND;VALUE=DATE:20231120
DTSTAMP:20260423T113510
CREATED:20231128T051101Z
LAST-MODIFIED:20231128T051101Z
UID:7229-1700352000-1700438399@astrobservers.com
SUMMARY:Hong Kong Space Museum
DESCRIPTION:
URL:https://astrobservers.com/event/hong-kong-space-museum/
LOCATION:Hong Kong Space Museum\, 10 Salisbury Rd\, Tsim Sha Tsui\, Hong Kong\, Hong Kong Space Museum\, 10 Salisbury Rd\, Tsim Sha Tsui\, HongKong\, Hong Kong
END:VEVENT
BEGIN:VEVENT
DTSTART;TZID=America/New_York:20231103T023000
DTEND;TZID=America/New_York:20231103T100000
DTSTAMP:20260423T113510
CREATED:20231120T043134Z
LAST-MODIFIED:20231120T043134Z
UID:7101-1698978600-1699005600@astrobservers.com
SUMMARY:Field Trip to the ShenZhen Observatory
DESCRIPTION:
URL:https://astrobservers.com/event/field-trip-to-the-shenzhen-observatory/
LOCATION:China\, Futian District\, 南澳岛\, China\, Futian District\, 南澳岛\, Shenzhen\, Guangdong\, 918000
END:VEVENT
BEGIN:VEVENT
DTSTART;TZID=America/New_York:20231027T180000
DTEND;TZID=America/New_York:20231027T210000
DTSTAMP:20260423T113510
CREATED:20231111T040203Z
LAST-MODIFIED:20231111T044749Z
UID:7005-1698429600-1698440400@astrobservers.com
SUMMARY:Fieldtrip to Danbury Mission Technologies
DESCRIPTION:
URL:https://astrobservers.com/event/calendar/
LOCATION:Danbury Mission Technologies\, 100 Wooster Hts Rd\, Danbury\, CT 06810\, Danbury\, CT\, 06810\, United States
END:VEVENT
BEGIN:VEVENT
DTSTART;TZID=America/New_York:20230509T063000
DTEND;TZID=America/New_York:20230509T210000
DTSTAMP:20260423T113510
CREATED:20231123T033816Z
LAST-MODIFIED:20231123T034156Z
UID:7217-1683613800-1683666000@astrobservers.com
SUMMARY:Trip to the Leitner Family Observatory and Planetarium
DESCRIPTION:
URL:https://astrobservers.com/event/trip-to-the-leitner-family-observatory-and-planetarium/
LOCATION:355 Prospect St\, New Haven\, CT\, 355 Prospect St\, New Haven\, CT\, New Haven\, CT\, 06511\, United States
END:VEVENT
BEGIN:VEVENT
DTSTART;VALUE=DATE:20230415
DTEND;VALUE=DATE:20230416
DTSTAMP:20260423T113510
CREATED:20231123T032807Z
LAST-MODIFIED:20231123T032812Z
UID:7214-1681516800-1681603199@astrobservers.com
SUMMARY:Northeast Astronomy Forum
DESCRIPTION:
URL:https://astrobservers.com/event/northeast-astronomy-forum/
LOCATION:Rockland Community College in Suffern\, N.Y\, Rockland Community College in Suffern\, N.Y\, Suffern\, NY\, 10901\, United States
END:VEVENT
BEGIN:VEVENT
DTSTART;TZID=America/New_York:20230201T093000
DTEND;TZID=America/New_York:20230201T223000
DTSTAMP:20260423T113510
CREATED:20231121T033845Z
LAST-MODIFIED:20231121T034433Z
UID:7163-1675243800-1675290600@astrobservers.com
SUMMARY:Amazing astronomical event ---- Comet
DESCRIPTION:Tonight\, for the first time in 50\,000 years\, the comet C/2022 E3 (ZTF) aka the “green comet” will be visible to us! \nJoin members of the Astronomy Club after study hall tonight (9.30 pm) as we use our fantastic new telescope to view this once-in-a-lifetime opportunity. We will gather outside of the Humanities. so please be sure to dress warmly!!!
URL:https://astrobservers.com/event/amazing-astronomical-event-comet/
LOCATION:10 main st. cheshire\, 10 Main St\, Cheshire\, CT\, 06410\, United States
END:VEVENT
END:VCALENDAR